Workbook

Sheet Rekapitulace stavby
A1: Export Komplet | AZ1: VZ | BA1: 2.0 | BT1: False | BU1: False | BV1: {5746757b-3066-4b66-8e2c-cded0c84b7a5}
AR2: >> skryté sloupce << | BS2: 0,01 | BT2: 21
BS3: 0,01 | BT3: 12
D4: REKAPITULACE STAVBY | AS4: v --- níže se nacházejí doplnkové a pomocné údaje k sestavám --- v | BE4: Návod na vyplnění | BS4: 0,001
D5: Kód: | K5: 2026_a | BE5: Měnit lze pouze buňky se žlutým podbarvením!_x000D_ _x000D_ 1) v Rekapitulaci stavby vyplňte údaje o Účastníkovi (přenesou se do ostatních sestav i v jiných listech)_x000D_ _x000D_ 2) na vybraných listech vyplňte v sestavě Soupis prací ceny u položek | BS5: 0,01
D6: Stavba: | K6: Historický altán - Park Petrohrad | BS6: 0,01
D7: KSO: | AK7: CC-CZ: | BS7: 0,01
D8: Místo: | K8: Petrohrad | AK8: Datum: | AN8: 9. 1. 2026 | BS8: 0,01
BS9: 0,01
D10: Zadavatel: | AK10: IČ: | BS10: 0,01
E11: Pavel Šilhánek | AK11: DIČ: | BS11: 0,01
BS12: 0,01
D13: Účastník: | AK13: IČ: | AN13: Vyplň údaj | BS13: 0,01
E14: Vyplň údaj | AK14: DIČ: | AN14: Vyplň údaj | BS14: 0,01
BS15: True
D16: Projektant: | AK16: IČ: | BS16: False
AK17: DIČ: | BS17: True
BS18: 0,01
D19: Zpracovatel: | AK19: IČ: | BS19: 0,01
E20: Ing. Václav Rajn | AK20: DIČ: | BS20: False
D22: Poznámka:
E23: Soupis prací je sestaven s využitím Cenové soustavy ÚRS. Položky, které pochází z této cenové soustavy, jsou ve sloupci 'Cenová soustava' označeny popisem 'CS ÚRS' a úrovní příslušného kalendářního pololetí. Veškeré další informace vymezující popis a podmínky použití těchto položek z Cenové soustavy, které nejsou uvedeny přímo v soupisu prací, jsou neomezeně dálkově k dispozici na webu podminky.urs.cz.
D26: Cena bez DPH | AK26: =ROUND(AG54,2) -> 0
L28: Sazba daně | W28: Základ daně | AK28: Výše daně
D29: DPH | F29: základní | L29: 0.21 | W29: =ROUND(AZ54, 2) -> 0 | AK29: =ROUND(AV54, 2) -> 0
F30: snížená | L30: 0.12 | W30: =ROUND(BA54, 2) -> 0 | AK30: =ROUND(AW54, 2) -> 0
F31: zákl. přenesená | L31: 0.21 | W31: =ROUND(BB54, 2) -> 0 | AK31: 0
F32: sníž. přenesená | L32: 0.12 | W32: =ROUND(BC54, 2) -> 0 | AK32: 0
F33: nulová | L33: 0 | W33: =ROUND(BD54, 2) -> 0 | AK33: 0
D35: Cena s DPH | T35: v | X35: CZK | AK35: =SUM(AK26:AK33) -> 0
C42: REKAPITULACE OBJEKTŮ STAVBY A SOUPISŮ PRACÍ
C44: Kód: | L44: =K5 -> 2026_a
C45: Stavba: | L45: =K6 -> Historický altán - Park Petrohrad
C47: Místo: | L47: =IF(K8="","",K8) -> Petrohrad | AI47: Datum: | AM47: =IF(AN8= "","",AN8) -> 9. 1. 2026
C49: Zadavatel: | L49: =IF(E11= "","",E11) -> Pavel Šilhánek | AI49: Projektant: | AM49: =IF(E17="","",E17) | AS49: Informatívní údaje z listů zakázek
C50: Účastník: | L50: =IF(E14= "Vyplň údaj","",E14) | AI50: Zpracovatel: | AM50: =IF(E20="","",E20) -> Ing. Václav Rajn
C52: Kód | I52: Popis | AG52: Cena bez DPH [CZK] | AN52: Cena s DPH [CZK] | AQ52: Typ | AS52: z toho Ostat._x000D_ náklady [CZK] | AT52: DPH [CZK] | AU52: Normohodiny [h] | AV52: DPH základní [CZK] | AW52: DPH snížená [CZK] | AX52: DPH základní přenesená_x000D_ [CZK] | AY52: DPH snížená přenesená_x000D_ [CZK] | AZ52: Základna_x000D_ DPH základní | BA52: Základna_x000D_ DPH snížená | BB52: Základna_x000D_ DPH zákl. přenesená | BC52: Základna_x000D_ DPH sníž. přenesená | BD52: Základna_x000D_ DPH nulová
C54: Náklady stavby celkem | AG54: =ROUND(AG55,2) -> 0 | AN54: =SUM(AG54,AT54) -> 0 | AS54: =ROUND(AS55,2) -> 0 | AT54: =ROUND(SUM(AV54:AW54),2) -> 0 | AU54: =ROUND(AU55,5) -> 0 | AV54: =ROUND(AZ54*L29,2) -> 0 | AW54: =ROUND(BA54*L30,2) -> 0 | AX54: =ROUND(BB54*L29,2) -> 0 | AY54: =ROUND(BC54*L30,2) -> 0 | AZ54: =ROUND(AZ55,2) -> 0 | BA54: =ROUND(BA55,2) -> 0 | BB54: =ROUND(BB55,2) -> 0 | BC54: =ROUND(BC55,2) -> 0 | BD54: =ROUND(BD55,2) -> 0 | BS54: D | BT54: 0 | BV54: IMPORT | BW54: {5746757b-3066-4b66-8e2c-cded0c84b7a5} | BX54: {00000000-0000-0000-0000-000000000000}
A55: / | D55: 2026_a | J55: Výstavba hudebního altánu v zámeckém parku Petrohrad | AG55: ='2026_a - Výstavba hudební...'!J28 -> 0 | AN55: =SUM(AG55,AT55) -> 0 | AQ55: STA | AS55: 0 | AT55: =ROUND(SUM(AV55:AW55),2) -> 0 | AU55: ='2026_a - Výstavba hudební...'!P76 -> 0 | AV55: ='2026_a - Výstavba hudební...'!J31 -> 0 | AW55: ='2026_a - Výstavba hudební...'!J32 -> 0 | AX55: ='2026_a - Výstavba hudební...'!J33 -> 0 | AY55: ='2026_a - Výstavba hudební...'!J34 -> 0 | AZ55: ='2026_a - Výstavba hudební...'!F31 -> 0 | BA55: ='2026_a - Výstavba hudební...'!F32 -> 0 | BB55: ='2026_a - Výstavba hudební...'!F33 -> 0 | BC55: ='2026_a - Výstavba hudební...'!F34 -> 0 | BD55: ='2026_a - Výstavba hudební...'!F35 -> 0 | BT55: 1 | BU55: ###NOINSERT### | BV55: IMPORT | BW55: {5746757b-3066-4b66-8e2c-cded0c84b7a5} | BX55: {00000000-0000-0000-0000-000000000000}

Sheet 2026_a - Výstavba hudební...
L2: >> skryté sloupce << | AT2: {5746757b-3066-4b66-8e2c-cded0c84b7a5}
AT3: 2
D4: KRYCÍ LIST SOUPISU PRACÍ | M4: v --- níže se nacházejí doplnkové a pomocné údaje k sestavám --- v | AT4: False
D6: Stavba:
E7: Výstavba hudebního altánu v zámeckém parku Petrohrad
D9: KSO: | I9: CC-CZ:
D10: Místo: | F10: Petrohrad | I10: Datum: | J10: ='Rekapitulace stavby'!AN8 -> 9. 1. 2026
D12: Zadavatel: | I12: IČ:
E13: Pavel Šilhánek | I13: DIČ:
D15: Účastník: | I15: IČ: | J15: ='Rekapitulace stavby'!AN13 -> Vyplň údaj
E16: ='Rekapitulace stavby'!E14 -> Vyplň údaj | I16: DIČ: | J16: ='Rekapitulace stavby'!AN14 -> Vyplň údaj
D18: Projektant: | I18: IČ: | J18: =IF('Rekapitulace stavby'!AN16="","",'Rekapitulace stavby'!AN16)
E19: =IF('Rekapitulace stavby'!E17="","",'Rekapitulace stavby'!E17) | I19: DIČ: | J19: =IF('Rekapitulace stavby'!AN17="","",'Rekapitulace stavby'!AN17)
D21: Zpracovatel: | I21: IČ:
E22: Ing. Václav Rajn | I22: DIČ:
D24: Poznámka:
E25: Soupis prací je sestaven s využitím Cenové soustavy ÚRS. Položky, které pochází z této cenové soustavy, jsou ve sloupci 'Cenová soustava' označeny popisem 'CS ÚRS' a úrovní příslušného kalendářního pololetí. Veškeré další informace vymezující popis a podmínky použití těchto položek z Cenové soustavy, které nejsou uvedeny přímo v soupisu prací, jsou neomezeně dálkově k dispozici na webu podminky.urs.cz.
D28: Cena bez DPH | J28: =ROUND(J76, 2) -> 0
F30: Základ daně | I30: Sazba daně | J30: Výše daně
D31: DPH | E31: základní | F31: =ROUND((SUM(BE76:BE85)), 2) -> 0 | I31: 0.21 | J31: =ROUND(((SUM(BE76:BE85))*I31), 2) -> 0
E32: snížená | F32: =ROUND((SUM(BF76:BF85)), 2) -> 0 | I32: 0.12 | J32: =ROUND(((SUM(BF76:BF85))*I32), 2) -> 0
E33: zákl. přenesená | F33: =ROUND((SUM(BG76:BG85)), 2) -> 0 | I33: 0.21 | J33: =0 -> 0
E34: sníž. přenesená | F34: =ROUND((SUM(BH76:BH85)), 2) -> 0 | I34: 0.12 | J34: =0 -> 0
E35: nulová | F35: =ROUND((SUM(BI76:BI85)), 2) -> 0 | I35: 0 | J35: =0 -> 0
D37: Cena s DPH | G37: v | H37: CZK | J37: =SUM(J28:J35) -> 0
C43: REKAPITULACE ČLENĚNÍ SOUPISU PRACÍ
C45: Stavba:
E46: =E7 -> Výstavba hudebního altánu v zámeckém parku Petrohrad
C48: Místo: | F48: =F10 -> Petrohrad | I48: Datum: | J48: =IF(J10="","",J10) -> 9. 1. 2026
C50: Zadavatel: | F50: =E13 -> Pavel Šilhánek | I50: Projektant: | J50: =E19
C51: Účastník: | F51: =IF(E16="","",E16) -> Vyplň údaj | I51: Zpracovatel: | J51: =E22 -> Ing. Václav Rajn
C53: Kód dílu - Popis | J53: Cena celkem [CZK]
C55: Náklady stavby celkem | J55: =J76 -> 0 | AU55: -1
D56: PSV - Práce a dodávky PSV | J56: =J77 -> 0
D57: 762 - Konstrukce tesařské | J57: =J78 -> 0
D58: 998 - Přesun hmot | J58: =J82 -> 0
C65: SOUPIS PRACÍ
C67: Stavba:
E68: =E7 -> Výstavba hudebního altánu v zámeckém parku Petrohrad
C70: Místo: | F70: =F10 -> Petrohrad | I70: Datum: | J70: =IF(J10="","",J10) -> 9. 1. 2026
...
